Workbook

Sheet Summary
A3: Michigan Department | D3: WEEKLY FORCE ACCOUNT SUMMARY | P3: FILE 105
A4: of Transportation | N4: WEEK ENDING
A5: 1101-SP109 (04/17)
A7: CONTRACTOR | H7: CONTROL SECTION & JOB NUMBER | N7: FORCE ACCOUNT #
A9: ADDRESS | H9: FED. ITEM NUMBER | N9: ROUTE
H11: FED. PROJECT NUMBER | L11: REGION APPROVAL DATE
H13: LENGTH & TYPE OF WORK
B23: LABOR | F23: WORKSHEET 2 OF 5 | J23: =Labor!R74 -> 0
B25: EQUIPMENT | F25: WORKSHEET 3 OF 5 | J25: =Equipment!$N$73 -> 0
B27: MATERIAL | F27: WORKSHEET 4 OF 5 | J27: =Materials!$N$73 -> 0
B29: SUB-CONTRACTS /MISCELLANEOUS | F29: WORKSHEET 5 OF 5 | J29: ='Subcontracts-Miscellaneous'!N71 -> 0
B31: Sub-contracting Markup | J31: =IF(A60=TRUE,0.05*(J29),0) -> 0
B33: FORCE ACCOUNT TOTAL | J33: =SUM(J23+J25+J27+J29+J31) -> 0
A42: ALL SUPPORTING DOCUMENTATION MUST BE ATTACHED TO THIS SUMMARY REPORT
A60: TRUE | O60: Page 1 of 6

Sheet Labor
T1: FALSE
P2: Job Number: | Q2: =Summary!H8 -> 0
A3: Michigan Department | E3: LABOR WORKSHEET | S3: FILE 105
A4: of Transportation | P4: =Summary!$N$4 -> WEEK ENDING
A5: 1101-SP109 (04/17)
A7: EMPLOYEE NAME | F7: WEEK DAY | M7: TOTAL | P7: FORCE ACCOUNT #
A8: LAST | B8: FIRST | C8: Class | D8: YTD Earnings | F8: =G8-1 -> -6 | G8: =H8-1 -> -5 | H8: =I8-1 -> -4 | I8: =J8-1 -> -3 | J8: =K8-1 -> -2 | K8: =L8-1 -> -1 | L8: =P5 -> 0 | M8: HOURS | N8: HOURLY RATE | O8: TOTAL WAGES | P8: HOURLY FRINGE | Q8: TOTAL FRINGE | R8: TOTAL AMOUNT
C9: 1 | E9: Reg | M9: =SUM(F9:L9) -> 0 | O9: =(M10*N10)+(M9*N9) -> 0 | Q9: =(M9*P9)+(M10*P10) -> 0 | R9: =O9+Q9 -> 0
E10: OT | M10: =SUM(F10:L10) -> 0
C11: 1 | E11: Reg | M11: =SUM(F11:L11) -> 0 | O11: =(M12*N12)+(M11*N11) -> 0 | Q11: =(M11*P11)+(M12*P12) -> 0 | R11: =O11+Q11 -> 0
E12: OT | M12: =SUM(F12:L12) -> 0
C13: 1 | E13: Reg | M13: =SUM(F13:L13) -> 0 | O13: =(M14*N14)+(M13*N13) -> 0 | Q13: =(M13*P13)+(M14*P14) -> 0 | R13: =O13+Q13 -> 0
E14: OT | M14: =SUM(F14:L14) -> 0
C15: 1 | E15: Reg | M15: =SUM(F15:L15) -> 0 | O15: =(M16*N16)+(M15*N15) -> 0 | Q15: =(M15*P15)+(M16*P16) -> 0 | R15: =O15+Q15 -> 0
E16: OT | M16: =SUM(F16:L16) -> 0
C17: 1 | E17: Reg | M17: =SUM(F17:L17) -> 0 | O17: =(M18*N18)+(M17*N17) -> 0 | Q17: =(M17*P17)+(M18*P18) -> 0 | R17: =O17+Q17 -> 0
E18: OT | M18: =SUM(F18:L18) -> 0
C19: 1 | E19: Reg | M19: =SUM(F19:L19) -> 0 | O19: =(M20*N20)+(M19*N19) -> 0 | Q19: =(M19*P19)+(M20*P20) -> 0 | R19: =O19+Q19 -> 0
E20: OT | M20: =SUM(F20:L20) -> 0
C21: 1 | E21: Reg | M21: =SUM(F21:L21) -> 0 | O21: =(M22*N22)+(M21*N21) -> 0 | Q21: =(M21*P21)+(M22*P22) -> 0 | R21: =O21+Q21 -> 0
E22: OT | M22: =SUM(F22:L22) -> 0
C23: 1 | E23: Reg | M23: =SUM(F23:L23) -> 0 | O23: =(M24*N24)+(M23*N23) -> 0 | Q23: =(M23*P23)+(M24*P24) -> 0 | R23: =O23+Q23 -> 0
E24: OT | M24: =SUM(F24:L24) -> 0
C25: 1 | E25: Reg | M25: =SUM(F25:L25) -> 0 | O25: =(M26*N26)+(M25*N25) -> 0 | Q25: =(M25*P25)+(M26*P26) -> 0 | R25: =O25+Q25 -> 0
E26: OT | M26: =SUM(F26:L26) -> 0
C27: 1 | E27: Reg | M27: =SUM(F27:L27) -> 0 | O27: =(M28*N28)+(M27*N27) -> 0 | Q27: =(M27*P27)+(M28*P28) -> 0 | R27: =O27+Q27 -> 0
E28: OT | M28: =SUM(F28:L28) -> 0
C29: 1 | E29: Reg | M29: =SUM(F29:L29) -> 0 | O29: =(M30*N30)+(M29*N29) -> 0 | Q29: =(M29*P29)+(M30*P30) -> 0 | R29: =O29+Q29 -> 0
E30: OT | M30: =SUM(F30:L30) -> 0
C31: 1 | E31: Reg | M31: =SUM(F31:L31) -> 0 | O31: =(M32*N32)+(M31*N31) -> 0 | Q31: =(M31*P31)+(M32*P32) -> 0 | R31: =O31+Q31 -> 0
E32: OT | M32: =SUM(F32:L32) -> 0
C33: 1 | E33: Reg | M33: =SUM(F33:L33) -> 0 | O33: =(M34*N34)+(M33*N33) -> 0 | Q33: =(M33*P33)+(M34*P34) -> 0 | R33: =O33+Q33 -> 0
E34: OT | M34: =SUM(F34:L34) -> 0
C35: 1 | E35: Reg | M35: =SUM(F35:L35) -> 0 | O35: =(M36*N36)+(M35*N35) -> 0 | Q35: =(M35*P35)+(M36*P36) -> 0 | R35: =O35+Q35 -> 0
E36: OT | M36: =SUM(F36:L36) -> 0
C37: 1 | E37: Reg | M37: =SUM(F37:L37) -> 0 | O37: =(M38*N38)+(M37*N37) -> 0 | Q37: =(M37*P37)+(M38*P38) -> 0 | R37: =O37+Q37 -> 0
E38: OT | M38: =SUM(F38:L38) -> 0
C39: 1 | E39: Reg | M39: =SUM(F39:L39) -> 0 | O39: =(M40*N40)+(M39*N39) -> 0 | Q39: =(M39*P39)+(M40*P40) -> 0 | R39: =O39+Q39 -> 0
E40: OT | M40: =SUM(F40:L40) -> 0
C41: 1 | E41: Reg | M41: =SUM(F41:L41) -> 0 | O41: =(M42*N42)+(M41*N41) -> 0 | Q41: =(M41*P41)+(M42*P42) -> 0 | R41: =O41+Q41 -> 0
E42: OT | M42: =SUM(F42:L42) -> 0
C43: 1 | E43: Reg | M43: =SUM(F43:L43) -> 0 | O43: =(M44*N44)+(M43*N43) -> 0 | Q43: =(M43*P43)+(M44*P44) -> 0 | R43: =O43+Q43 -> 0
E44: OT | M44: =SUM(F44:L44) -> 0
C45: 1 | E45: Reg | M45: =SUM(F45:L45) -> 0 | O45: =(M46*N46)+(M45*N45) -> 0 | Q45: =(M45*P45)+(M46*P46) -> 0 | R45: =O45+Q45 -> 0
E46: OT | M46: =SUM(F46:L46) -> 0
C47: 1 | E47: Reg | M47: =SUM(F47:L47) -> 0 | O47: =(M48*N48)+(M47*N47) -> 0 | Q47: =(M47*P47)+(M48*P48) -> 0 | R47: =O47+Q47 -> 0
E48: OT | M48: =SUM(F48:L48) -> 0
C49: 1 | E49: Reg | M49: =SUM(F49:L49) -> 0 | O49: =(M50*N50)+(M49*N49) -> 0 | Q49: =(M49*P49)+(M50*P50) -> 0 | R49: =O49+Q49 -> 0
E50: OT | M50: =SUM(F50:L50) -> 0
C51: 1 | E51: Reg | M51: =SUM(F51:L51) -> 0 | O51: =(M52*N52)+(M51*N51) -> 0 | Q51: =(M51*P51)+(M52*P52) -> 0 | R51: =O51+Q51 -> 0
E52: OT | M52: =SUM(F52:L52) -> 0
C53: 1 | E53: Reg | M53: =SUM(F53:L53) -> 0 | O53: =(M54*N54)+(M53*N53) -> 0 | Q53: =(M53*P53)+(M54*P54) -> 0 | R53: =O53+Q53 -> 0
E54: OT | M54: =SUM(F54:L54) -> 0
C55: 1 | E55: Reg | M55: =SUM(F55:L55) -> 0 | O55: =(M56*N56)+(M55*N55) -> 0 | Q55: =(M55*P55)+(M56*P56) -> 0 | R55: =O55+Q55 -> 0
E56: OT | M56: =SUM(F56:L56) -> 0
C57: 1 | E57: Reg | M57: =SUM(F57:L57) -> 0 | O57: =(M58*N58)+(M57*N57) -> 0 | Q57: =(M57*P57)+(M58*P58) -> 0 | R57: =O57+Q57 -> 0
E58: OT | M58: =SUM(F58:L58) -> 0
C59: 1 | E59: Reg | M59: =SUM(F59:L59) -> 0 | O59: =(M60*N60)+(M59*N59) -> 0 | Q59: =(M59*P59)+(M60*P60) -> 0 | R59: =O59+Q59 -> 0
E60: OT | M60: =SUM(F60:L60) -> 0
C61: 1 | E61: Reg | M61: =SUM(F61:L61) -> 0 | O61: =(M62*N62)+(M61*N61) -> 0 | Q61: =(M61*P61)+(M62*P62) -> 0 | R61: =O61+Q61 -> 0
E62: OT | M62: =SUM(F62:L62) -> 0
C63: 1 | E63: Reg | M63: =SUM(F63:L63) -> 0 | O63: =(M64*N64)+(M63*N63) -> 0 | Q63: =(M63*P63)+(M64*P64) -> 0 | R63: =O63+Q63 -> 0
E64: OT | M64: =SUM(F64:L64) -> 0
C65: 1 | E65: Reg | M65: =SUM(F65:L65) -> 0 | O65: =(M66*N66)+(M65*N65) -> 0 | Q65: =(M65*P65)+(M66*P66) -> 0 | R65: =O65+Q65 -> 0
E66: OT | M66: =SUM(F66:L66) -> 0
C67: 1 | E67: Reg | M67: =SUM(F67:L67) -> 0 | O67: =(M68*N68)+(M67*N67) -> 0 | Q67: =(M67*P67)+(M68*P68) -> 0 | R67: =O67+Q67 -> 0
E68: OT | M68: =SUM(F68:L68) -> 0
C69: 1 | E69: Reg | M69: =SUM(F69:L69) -> 0 | O69: =(M70*N70)+(M69*N69) -> 0 | Q69: =(M69*P69)+(M70*P70) -> 0 | R69: =O69+Q69 -> 0
E70: OT | M70: 0
E71: =IF(#REF!=TRUE,55,60) -> #REF! | N71: LABOR SUBTOTAL | R71: 0
H72: Check Bubble if Road Project | N72: Overhead Percent | R72: =IF(B77=1,0.55,0.6) -> 0.55
A73: * COPIES OF CERTIFIED PAYROLLS MUST BE ATTACHED | N73: Overhead Total | R73: =R71*R72 -> 0
H74: Check Bubble if Bridge Project | N74: LABOR TOTAL | R74: =R73+R71 -> 0
A75: FALSE | R75: Page 2 of 5
B77: 1

Sheet Equipment
A2: Job Number: | B2: =Summary!H8 -> 0
A3: Michigan Department | C3: EQUIPMENT WORKSHEET | O3: FILE 105
A4: of Transportation | M4: =Summary!$N$4 -> WEEK ENDING
A5: 1101-SP109 (04/17)
F6: ** Foreman's Truck $25.00 per hour
D7: WEEK DAY | K7: TOTAL | M7: FORCE ACCOUNT # | O7: Agg Base Ton
A8: EQUIPMENT (Description, Year, & Capacity) | D8: =E8-1 -> -6 | E8: =F8-1 -> -5 | F8: =G8-1 -> -4 | G8: =H8-1 -> -3 | H8: =I8-1 -> -2 | I8: =J8-1 -> -1 | J8: =M5 -> 0 | K8: HOURS | L8: Base Hourly Rate | N8: TOTAL AMOUNT
K9: =+SUM(D9:J9) -> 0 | N9: =+K9*L9 -> 0
K10: =+SUM(D10:J10) -> 0 | N10: =+K10*L10 -> 0
K11: =+SUM(D11:J11) -> 0 | N11: =+K11*L11 -> 0
K12: =+SUM(D12:J12) -> 0 | N12: =+K12*L12 -> 0
K13: =+SUM(D13:J13) -> 0 | N13: =+K13*L13 -> 0
K14: =+SUM(D14:J14) -> 0 | N14: =+K14*L14 -> 0
K15: =+SUM(D15:J15) -> 0 | N15: =+K15*L15 -> 0
K16: =+SUM(D16:J16) -> 0 | N16: =+K16*L16 -> 0
K17: =+SUM(D17:J17) -> 0 | N17: =+K17*L17 -> 0
K18: =+SUM(D18:J18) -> 0 | N18: =+K18*L18 -> 0
K19: =+SUM(D19:J19) -> 0 | N19: =+K19*L19 -> 0
K20: =+SUM(D20:J20) -> 0 | N20: =+K20*L20 -> 0
... K72: =+SUM(D72:J72) -> 0 | N72: =+K72*L72 -> 0
L73: EQUIPMENT TOTAL | N73: =SUM(N9:O72) -> 0
A74: * COPIES OF EQUIPMENT WATCH (BLUE SHEETS) MUST BE ATTACHED
N75: Page 3 of 5

Sheet Materials
A2: Job Number: | B2: =Summary!H8 -> 0
A3: Michigan Department | C3: MATERIAL WORKSHEET | O3: FILE 105
A4: of Transportation | M4: =Summary!$N$4 -> WEEK ENDING
A5: 1101-SP109 (04/17)
M7: FORCE ACCOUNT # | O7: Agg Base Ton
A8: DATE | B8: PURCHASED FROM | F8: MATERIAL | K8: QUANTITY | L8: DATE PAID | N8: INVOICE AMOUNT
K71: MATERIAL SUBTOTAL | N71: =SUM(N9:O70) -> 0
K72: ADDITIONAL (15%) | N72: =+N71*0.15 -> 0
A73: * INVOICES OF MATERIALS AND FREIGHT MUST BE ATTACHED | K73: MATERIAL TOTAL | N73: =+N71+N72 -> 0
N75: Page 4 of 5

Sheet Subcontracts-Miscellaneous
A2: Job Number: | B2: =Summary!H8 -> 0
A3: Michigan Department | C3: SUBCONTRACTS/MISCELLANEOUS WORKSHEET | O3: FILE 105
A4: of Transportation | M4: =Summary!$N$4 -> WEEK ENDING
A5: 1101-SP109 (04/17)
M7: FORCE ACCOUNT # | O7: =Summary!$N$8 -> 0
A8: DATE | B8: SUB-CONTRACTING/SERVICES | F8: DESCRIPTION | K8: QUANTITY | L8: DATE PAID | N8: INVOICE AMOUNT
K71: MISCELLANEOUS TOTAL | N71: =SUM(N9:O70) -> 0
A73: *INVOICES MUST BE ATTACHED
N75: Page 5 of 5
