Workbook

Sheet Summary
A3: Michigan Department | D3: WEEKLY FORCE ACCOUNT SUMMARY | P3: FILE 105
A4: of Transportation | N4: WEEK ENDING
A5: 1101-SP109 (04/17)
A7: CONTRACTOR | H7: CONTROL SECTION & JOB NUMBER | N7: FORCE ACCOUNT #
A9: ADDRESS | H9: FED. ITEM NUMBER | N9: ROUTE
H11: FED. PROJECT NUMBER | L11: REGION APPROVAL DATE
H13: LENGTH & TYPE OF WORK
B23: LABOR | F23: WORKSHEET 2 OF 5 | J23: =Labor!R74 -> 0
B25: EQUIPMENT | F25: WORKSHEET 3 OF 5 | J25: =Equipment!$N$73 -> 0
B27: MATERIAL | F27: WORKSHEET 4 OF 5 | J27: =Materials!$N$73 -> 0
B29: SUB-CONTRACTS /MISCELLANEOUS | F29: WORKSHEET 5 OF 5 | J29: ='Subcontracts-Miscellaneous'!N71 -> 0
B31: Sub-contracting Markup | J31: =IF(A60=TRUE,0.05*(J29),0) -> 0
B33: FORCE ACCOUNT TOTAL | J33: =SUM(J23+J25+J27+J29+J31) -> 0
A42: ALL SUPPORTING DOCUMENTATION MUST BE ATTACHED TO THIS SUMMARY REPORT
A60: TRUE | O60: Page 1 of 6

Sheet Labor
T1: FALSE
P2: Job Number: | Q2: =Summary!H8 -> 0
A3: Michigan Department | E3: LABOR WORKSHEET | S3: FILE 105
A4: of Transportation | P4: =Summary!$N$4 -> WEEK ENDING
A5: 1101-SP109 (04/17)
A7: EMPLOYEE NAME | F7: WEEK DAY | M7: TOTAL | P7: FORCE ACCOUNT #
A8: LAST | B8: FIRST | C8: Class | D8: YTD Earnings | F8: =G8-1 -> -6 | G8: =H8-1 -> -5 | H8: =I8-1 -> -4 | I8: =J8-1 -> -3 | J8: =K8-1 -> -2 | K8: =L8-1 -> -1 | L8: =P5 -> 0 | M8: HOURS | N8: HOURLY RATE | O8: TOTAL WAGES | P8: HOURLY FRINGE | Q8: TOTAL FRINGE | R8: TOTAL AMOUNT
C9: 1 | E9: Reg | M9: =SUM(F9:L9) -> 0 | O9: =(M10*N10)+(M9*N9) -> 0 | Q9: =(M9*P9)+(M10*P10) -> 0 | R9: =O9+Q9 -> 0
E10: OT | M10: =SUM(F10:L10) -> 0
C11: 1 | E11: Reg | M11: =SUM(F11:L11) -> 0 | O11: =(M12*N12)+(M11*N11) -> 0 | Q11: =(M11*P11)+(M12*P12) -> 0 | R11: =O11+Q11 -> 0
E12: OT | M12: =SUM(F12:L12) -> 0
C13: 1 | E13: Reg | M13: =SUM(F13:L13) -> 0 | O13: =(M14*N14)+(M13*N13) -> 0 | Q13: =(M13*P13)+(M14*P14) -> 0 | R13: =O13+Q13 -> 0
E14: OT | M14: =SUM(F14:L14) -> 0
C15: 1 | E15: Reg | M15: =SUM(F15:L15) -> 0 | O15: =(M16*N16)+(M15*N15) -> 0 | Q15: =(M15*P15)+(M16*P16) -> 0 | R15: =O15+Q15 -> 0
E16: OT | M16: =SUM(F16:L16) -> 0
C17: 1 | E17: Reg | M17: =SUM(F17:L17) -> 0 | O17: =(M18*N18)+(M17*N17) -> 0 | Q17: =(M17*P17)+(M18*P18) -> 0 | R17: =O17+Q17 -> 0
E18: OT | M18: =SUM(F18:L18) -> 0
C19: 1 | E19: Reg | M19: =SUM(F19:L19) -> 0 | O19: =(M20*N20)+(M19*N19) -> 0 | Q19: =(M19*P19)+(M20*P20) -> 0 | R19: =O19+Q19 -> 0
E20: OT | M20: =SUM(F20:L20) -> 0
C21: 1 | E21: Reg | M21: =SUM(F21:L21) -> 0 | O21: =(M22*N22)+(M21*N21) -> 0 | Q21: =(M21*P21)+(M22*P22) -> 0 | R21: =O21+Q21 -> 0
E22: OT | M22: =SUM(F22:L22) -> 0
C23: 1 | E23: Reg | M23: =SUM(F23:L23) -> 0 | O23: =(M24*N24)+(M23*N23) -> 0 | Q23: =(M23*P23)+(M24*P24) -> 0 | R23: =O23+Q23 -> 0
E24: OT | M24: =SUM(F24:L24) -> 0
C25: 1 | E25: Reg | M25: =SUM(F25:L25) -> 0 | O25: =(M26*N26)+(M25*N25) -> 0 | Q25: =(M25*P25)+(M26*P26) -> 0 | R25: =O25+Q25 -> 0
E26: OT | M26: =SUM(F26:L26) -> 0
C27: 1 | E27: Reg | M27: =SUM(F27:L27) -> 0 | O27: =(M28*N28)+(M27*N27) -> 0 | Q27: =(M27*P27)+(M28*P28) -> 0 | R27: =O27+Q27 -> 0
E28: OT | M28: =SUM(F28:L28) -> 0
C29: 1 | E29: Reg | M29: =SUM(F29:L29) -> 0 | O29: =(M30*N30)+(M29*N29) -> 0 | Q29: =(M29*P29)+(M30*P30) -> 0 | R29: =O29+Q29 -> 0
E30: OT | M30: =SUM(F30:L30) -> 0
C31: 1 | E31: Reg | M31: =SUM(F31:L31) -> 0 | O31: =(M32*N32)+(M31*N31) -> 0 | Q31: =(M31*P31)+(M32*P32) -> 0 | R31: =O31+Q31 -> 0
E32: OT | M32: =SUM(F32:L32) -> 0
C33: 1 | E33: Reg | M33: =SUM(F33:L33) -> 0 | O33: =(M34*N34)+(M33*N33) -> 0 | Q33: =(M33*P33)+(M34*P34) -> 0 | R33: =O33+Q33 -> 0
E34: OT | M34: =SUM(F34:L34) -> 0
C35: 1 | E35: Reg | M35: =SUM(F35:L35) -> 0 | O35: =(M36*N36)+(M35*N35) -> 0 | Q35: =(M35*P35)+(M36*P36) -> 0 | R35: =O35+Q35 -> 0
E36: OT | M36: =SUM(F36:L36) -> 0
C37: 1 | E37: Reg | M37: =SUM(F37:L37) -> 0 | O37: =(M38*N38)+(M37*N37) -> 0 | Q37: =(M37*P37)+(M38*P38) -> 0 | R37: =O37+Q37 -> 0
E38: OT | M38: =SUM(F38:L38) -> 0
C39: 1 | E39: Reg | M39: =SUM(F39:L39) -> 0 | O39: =(M40*N40)+(M39*N39) -> 0 | Q39: =(M39*P39)+(M40*P40) -> 0 | R39: =O39+Q39 -> 0
E40: OT | M40: =SUM(F40:L40) -> 0
C41: 1 | E41: Reg | M41: =SUM(F41:L41) -> 0 | O41: =(M42*N42)+(M41*N41) -> 0 | Q41: =(M41*P41)+(M42*P42) -> 0 | R41: =O41+Q41 -> 0
...

Sheet Equipment
A2: Job Number: | B2: =Summary!H8 -> 0
A3: Michigan Department | C3: EQUIPMENT WORKSHEET | O3: FILE 105
A4: of Transportation | M4: =Summary!$N$4 -> WEEK ENDING
A5: 1101-SP109 (04/17)
F6: ** Foreman's Truck $25.00 per hour
D7: WEEK DAY | K7: TOTAL | M7: FORCE ACCOUNT # | O7: Agg Base Ton
A8: EQUIPMENT (Description, Year, & Capacity) | D8: =E8-1 -> -6 | E8: =F8-1 -> -5 | F8: =G8-1 -> -4 | G8: =H8-1 -> -3 | H8: =I8-1 -> -2 | I8: =J8-1 -> -1 | J8: =M5 -> 0 | K8: HOURS | L8: Base Hourly Rate | N8: TOTAL AMOUNT
K9: =+SUM(D9:J9) -> 0 | N9: =+K9*L9 -> 0
K10: =+SUM(D10:J10) -> 0 | N10: =+K10*L10 -> 0
K11: =+SUM(D11:J11) -> 0 | N11: =+K11*L11 -> 0
K12: =+SUM(D12:J12) -> 0 | N12: =+K12*L12 -> 0
K13: =+SUM(D13:J13) -> 0 | N13: =+K13*L13 -> 0
K14: =+SUM(D14:J14) -> 0 | N14: =+K14*L14 -> 0
K15: =+SUM(D15:J15) -> 0 | N15: =+K15*L15 -> 0
K16: =+SUM(D16:J16) -> 0 | N16: =+K16*L16 -> 0
K17: =+SUM(D17:J17) -> 0 | N17: =+K17*L17 -> 0
K18: =+SUM(D18:J18) -> 0 | N18: =+K18*L18 -> 0
K19: =+SUM(D19:J19) -> 0 | N19: =+K19*L19 -> 0
K20: =+SUM(D20:J20) -> 0 | N20: =+K20*L20 -> 0
... K72: =+SUM(D72:J72) -> 0 | N72: =+K72*L72 -> 0
L73: EQUIPMENT TOTAL | N73: =SUM(N9:O72) -> 0
A74: * COPIES OF EQUIPMENT WATCH (BLUE SHEETS) MUST BE ATTACHED
N75: Page 3 of 5

Sheet Materials
A2: Job Number: | B2: =Summary!H8 -> 0
A3: Michigan Department | C3: MATERIAL WORKSHEET | O3: FILE 105
A4: of Transportation | M4: =Summary!$N$4 -> WEEK ENDING
A5: 1101-SP109 (04/17)
M7: FORCE ACCOUNT # | O7: Agg Base Ton
A8: DATE | B8: PURCHASED FROM | F8: MATERIAL | K8: QUANTITY | L8: DATE PAID | N8: INVOICE AMOUNT
K71: MATERIAL SUBTOTAL | N71: =SUM(N9:O70) -> 0
K72: ADDITIONAL (15%) | N72: =+N71*0.15 -> 0
A73: * INVOICES OF MATERIALS AND FREIGHT MUST BE ATTACHED | K73: MATERIAL TOTAL | N73: =+N71+N72 -> 0
N75: Page 4 of 5

Sheet Subcontracts-Miscellaneous
A2: Job Number: | B2: =Summary!H8 -> 0
A3: Michigan Department | C3: SUBCONTRACTS/MISCELLANEOUS WORKSHEET | O3: FILE 105
A4: of Transportation | M4: =Summary!$N$4 -> WEEK ENDING
A5: 1101-SP109 (04/17)
M7: FORCE ACCOUNT # | O7: =Summary!$N$8 -> 0
A8: DATE | B8: SUB-CONTRACTING/SERVICES | F8: DESCRIPTION | K8: QUANTITY | L8: DATE PAID | N8: INVOICE AMOUNT
K71: MISCELLANEOUS TOTAL | N71: =SUM(N9:O70) -> 0
A73: *INVOICES MUST BE ATTACHED
N75: Page 5 of 5
